BEGIN:VCALENDAR
VERSION:2.0
PRODID:-//Badmintonvereniging Pegasus - ECPv6.8.3//NONSGML v1.0//EN
CALSCALE:GREGORIAN
METHOD:PUBLISH
X-ORIGINAL-URL:https://bc-pegasusterapel.nl
X-WR-CALDESC:Evenementen voor Badmintonvereniging Pegasus
REFRESH-INTERVAL;VALUE=DURATION:PT1H
X-Robots-Tag:noindex
X-PUBLISHED-TTL:PT1H
BEGIN:VTIMEZONE
TZID:UTC
BEGIN:STANDARD
TZOFFSETFROM:+0000
TZOFFSETTO:+0000
TZNAME:UTC
DTSTART:20240101T000000
END:STANDARD
END:VTIMEZONE
BEGIN:VEVENT
DTSTART;TZID=UTC:20241026T091500
DTEND;TZID=UTC:20241026T170000
DTSTAMP:20260425T204111
CREATED:20240913T082228Z
LAST-MODIFIED:20240913T085030Z
UID:959-1729934100-1729962000@bc-pegasusterapel.nl
SUMMARY:Make A Wish Toernooi 2024
DESCRIPTION:Op zaterdag 26 oktober 2024 wordt het 7e Make-A-Wish Badminton Toernooi gehouden in het Centrum voor Sport en Vrije Tijd De Kalkwijck te Hoogezand.\nEr worden vrouwen en mannen dubbelpartijen gespeeld en voor het eerst ook mix-dubbelpartijen\, waarbij maximaal 8 poules worden ingedeeld op speelsterkte.\nWij nodigen je uit om samen met jouw dubbelpartner in te schrijven voor dit toernooi. De gehele opbrengst van dit toernooi gaat evenals de voorgaande jaren naar\nde Make A Wish organisatie\, die kinderen met een levensbedreigende ziekte hun allerliefste wens laten uitkomen. Deze wensvervulling geeft de kinderen niet alleen\neen hele mooie en blije dag maar ook weer kracht om tegen hun ziekte te kunnen vechten.\n \n“Make-A-Wish: een stralend licht voor diegenen die het zo hard nodig hebben !” \nWe hopen dat we zoveel mogelijk spelers mogen begroeten\, die aan dit unieke toernooi en goede doel mee willen werken.\nHet Inschrijfformulier Make A Wish Toernooi 2024 kan worden gezonden aan : hendrikhendriks@home.nl of aan H. Hendriks\, Multatulistraat 14\,\n9602 BB\, Hoogezand. Wij verzoeken een ieder dit toernooi onder de aandacht te willen brengen bij andere badmintonners in jullie omgeving door deze mail door te\nsturen of onder de aandacht te brengen op Facebook. De gegevens van het toernooi alsmede de spelerslijst komen binnenkort op de website van BC Sportief Hoogezand\nte staan (www.bcsportief.nl)\n\nMisschien (weer) tot ziens op het 7ee Make A Wish Badminton Toernooi in Hoogezand op zaterdag 26 oktober a.s. \nMet vriendelijke groet\,\nMede namens Henk Jan de Haan\, Sanne de Haan en Frits van der Klei\n \nHenk Hendriks \nInschrijfformulier Make A Wish Toernooi 2024
URL:https://bc-pegasusterapel.nl/event/make-a-wish-toernooi-2024/
LOCATION:Sportcentrum “De Kalkwijck”\, Nieuweweg 8\, Hoogezand\, Groningen\, 9603 BM\, Netherlands
END:VEVENT
END:VCALENDAR