BEGIN:VCALENDAR
VERSION:2.0
PRODID:-//Badmintonvereniging Pegasus - ECPv6.8.3//NONSGML v1.0//EN
CALSCALE:GREGORIAN
METHOD:PUBLISH
X-WR-CALNAME:Badmintonvereniging Pegasus
X-ORIGINAL-URL:https://bc-pegasusterapel.nl
X-WR-CALDESC:Evenementen voor Badmintonvereniging Pegasus
REFRESH-INTERVAL;VALUE=DURATION:PT1H
X-Robots-Tag:noindex
X-PUBLISHED-TTL:PT1H
BEGIN:VTIMEZONE
TZID:UTC
BEGIN:STANDARD
TZOFFSETFROM:+0000
TZOFFSETTO:+0000
TZNAME:UTC
DTSTART:20260101T000000
END:STANDARD
END:VTIMEZONE
BEGIN:VEVENT
DTSTART;VALUE=DATE:20260308
DTEND;VALUE=DATE:20260309
DTSTAMP:20260422T121122
CREATED:20250108T183056Z
LAST-MODIFIED:20251213T125538Z
UID:1052-1772928000-1773014399@bc-pegasusterapel.nl
SUMMARY:BC Sportief - Veteranen Toernooi 2026
DESCRIPTION:BC Sportief Hoogezand organiseert op zondag  8 maart 2026 voor de 23e keer haar jaarlijkse Badminton Veteranen Toernooi.  \n Wij hopen als vanouds een gezellig en geslaagd toernooi te kunnen organiseren met aansluitend voor de liefhebbers een lopend buffet bij het Chinees/Indisch restaurant De Kersebloesem in de Groeve  (tussen Hoogezand en Zuidlaren). De minimale leeftijd om deel te nemen is voor de vrouwen 30 jaar en voor de mannen 35 jaar. \nHet is de bedoeling om evenals in voorgaande jaren er weer een fijne dag van te maken met veel leuke wedstrijden. Voor wie goed speelt en ook beetje geluk heeft zijn er voor de nummers 1\,2 en 3 leuke prijzen. Ca. 4 dagen voor het toernooi worden de uitnodigingen verzonden met daarbij een routebeschrijving en de aanvangstijd van je eerste wedstrijd. \nHet kenmerk van een Veteranen Toernooi is een ongedwongen en gezellige sfeer waarbij toch door de “veteranen” fanatiek wordt gespeeld om de winst. Je wordt op je speelsterkte ingedeeld en er wordt gespeeld om twee gewonnen games. Gedurende de dag wordt eveneens aandacht besteed aan het wel en wee van de inwendige mens. \nDe gegevens van het toernooi staan eveneens vermeld op onze website: www.bcsportief.nl. Hier wordt straks ook de geactualiseerde\nspelerslijst gepubliceerd. \nHet eventueel doorzenden van dit bericht aan andere mogelijk belangstellende badmintonners stellen wij zeer op prijs.  \nDownload hier het inschrijfformulier: Inschrijfformulier Veteranentoernooi BC Sportief (8 maart 2026) \nMisschien (weer) tot ziens op 8 maart a.s. in Hoogezand \nmet vriendelijke groet\nNamens BC Sportief Hoogezand \nHenk Hendriks 
URL:https://bc-pegasusterapel.nl/event/bc-sportief-veteranen-toernooi-2026/
LOCATION:Sportcentrum “De Kalkwijck”\, Nieuweweg 6 te  Hoogezand\, Nieuweweg 6\, Hoogezand\, Groningen\, 9603 BM\, Netherlands
ORGANIZER;CN="BC Sportief":MAILTO:Hendrikhendriks@home.nl
END:VEVENT
END:VCALENDAR