BEGIN:VCALENDAR
VERSION:2.0
PRODID:-//Badmintonvereniging Pegasus - ECPv6.8.3//NONSGML v1.0//EN
CALSCALE:GREGORIAN
METHOD:PUBLISH
X-WR-CALNAME:Badmintonvereniging Pegasus
X-ORIGINAL-URL:https://bc-pegasusterapel.nl
X-WR-CALDESC:Evenementen voor Badmintonvereniging Pegasus
REFRESH-INTERVAL;VALUE=DURATION:PT1H
X-Robots-Tag:noindex
X-PUBLISHED-TTL:PT1H
BEGIN:VTIMEZONE
TZID:UTC
BEGIN:STANDARD
TZOFFSETFROM:+0000
TZOFFSETTO:+0000
TZNAME:UTC
DTSTART:20260101T000000
END:STANDARD
END:VTIMEZONE
BEGIN:VEVENT
DTSTART;TZID=UTC:20260605T190000
DTEND;TZID=UTC:20260605T223000
DTSTAMP:20260422T222151
CREATED:20260419T085250Z
LAST-MODIFIED:20260419T085250Z
UID:1478-1780686000-1780698600@bc-pegasusterapel.nl
SUMMARY:JubileumToernooi BOP
DESCRIPTION:Badminton vereniging Oude Pekela  bestaat dit jaar 45 jaar!\nDaarom organiseren wij Op vrijdag 5 juni 2026 een gezellige mix/dubbel toernooi. \nHet concept is dat iedereen elke wedstrijd met een andere partner speelt.\nAlle wedstrijden worden gespeeld op tijd. \nWe gaan een verdeling maken in twee of drie groepen. \nGroep 1: competitie niveau\nGroep 2: gevorderden / recreanten \nTijdens het toernooi kunnen jullie genieten van een warm en koud buffet. \nDe kosten voor dit gezellige toernooi zijn: € 17\,50\nDit is inclusief het warm en koud buffet. \nWaar : Sporthal de Spil \, beukenlaan 1 te Nieuwe Pekela \nAanvang : 19.00 uur ( aanwezig zijn om 18.45 uur )\nNa afloop is de prijsuitreiking rond 22:30 uur. \nBetaling kan gedaan worden via bank: NL87 INGB 0005 2866 03 tnv\nBadmintonvereniging Oude Pekela\, betalen in de zaal is € 20\,00. \nAls je mee wil doen vul dan dit formulier in: Jubileumtoernooi 2026BOP
URL:https://bc-pegasusterapel.nl/event/jubileumtoernooi-bop/
LOCATION:Sporthal de Spil\, Beukenlaan 1\, Nieuwe Pekela\, Groningen\, Nederland
ORGANIZER;CN="BV BOP":MAILTO:info@bvbop.nl
END:VEVENT
END:VCALENDAR