BEGIN:VCALENDAR
VERSION:2.0
PRODID:-//Badmintonvereniging Pegasus - ECPv6.8.3//NONSGML v1.0//EN
CALSCALE:GREGORIAN
METHOD:PUBLISH
X-ORIGINAL-URL:https://bc-pegasusterapel.nl
X-WR-CALDESC:Evenementen voor Badmintonvereniging Pegasus
REFRESH-INTERVAL;VALUE=DURATION:PT1H
X-Robots-Tag:noindex
X-PUBLISHED-TTL:PT1H
BEGIN:VTIMEZONE
TZID:UTC
BEGIN:STANDARD
TZOFFSETFROM:+0000
TZOFFSETTO:+0000
TZNAME:UTC
DTSTART:20260101T000000
END:STANDARD
END:VTIMEZONE
BEGIN:VEVENT
DTSTART;TZID=UTC:20260108T200000
DTEND;TZID=UTC:20260108T211500
DTSTAMP:20260422T135719
CREATED:20251207T103126Z
LAST-MODIFIED:20251213T133139Z
UID:1326-1767902400-1767906900@bc-pegasusterapel.nl
SUMMARY:Nieuwjaars gezelligheidstoernooi!
DESCRIPTION:Nieuwjaar gezelligheidstoernooi  Donderdag 8 januari. \n\nStart om 20.00 neem een racket en een goed humeur mee\nEindigt om 21.15  door samen op te ruimen\nProosten met elkaar in de kantine\, voor ieder 1 gratis consumptie
URL:https://bc-pegasusterapel.nl/event/1326/
LOCATION:Sporthal Ter Apel\, Heemker Akkerstraat 6\, Ter Apel\, Groningen\, 9561 KK\, Netherlands
END:VEVENT
END:VCALENDAR